BEGIN:VCALENDAR
VERSION:2.0
PRODID:-//Autorin Lisa Graf - ECPv6.15.17.1//NONSGML v1.0//EN
CALSCALE:GREGORIAN
METHOD:PUBLISH
X-WR-CALNAME:Autorin Lisa Graf
X-ORIGINAL-URL:https://lisagraf-autorin.de
X-WR-CALDESC:Veranstaltungen für Autorin Lisa Graf
REFRESH-INTERVAL;VALUE=DURATION:PT1H
X-Robots-Tag:noindex
X-PUBLISHED-TTL:PT1H
BEGIN:VTIMEZONE
TZID:UTC
BEGIN:STANDARD
TZOFFSETFROM:+0000
TZOFFSETTO:+0000
TZNAME:UTC
DTSTART:20250101T000000
END:STANDARD
END:VTIMEZONE
BEGIN:VEVENT
DTSTART;TZID=UTC:20260311T190000
DTEND;TZID=UTC:20260311T203000
DTSTAMP:20260421T080427
CREATED:20250826T074013Z
LAST-MODIFIED:20250826T074013Z
UID:1008125-1773255600-1773261000@lisagraf-autorin.de
SUMMARY:Lesung in Salzkotten\, NRW
DESCRIPTION:Stadtbibliothek Salzkotten\nMarktstraße 2\, 33154 Salzkotten\nLesung aus „Lindt&Sprüngli – Zwei Rivalen\, ein Traum“
URL:https://lisagraf-autorin.de/event/lesung-in-salzkotten-nrw/
END:VEVENT
END:VCALENDAR